BEGIN:VCALENDAR
VERSION:2.0
PRODID:spatie/icalendar-generator
DESCRIPTION:Events from Easton Library
X-WR-CALDESC:Events from Easton Library
REFRESH-INTERVAL;VALUE=DURATION:PT1440M
X-PUBLISHED-TTL:PT1440M
BEGIN:VTIMEZONE
TZID:America/New_York
BEGIN:DAYLIGHT
DTSTART:20250309T020000Z
TZOFFSETFROM:-0500
TZOFFSETTO:-0400
END:DAYLIGHT
BEGIN:STANDARD
DTSTART:20251102T020000Z
TZOFFSETFROM:-0400
TZOFFSETTO:-0500
END:STANDARD
BEGIN:DAYLIGHT
DTSTART:20260308T020000Z
TZOFFSETFROM:-0500
TZOFFSETTO:-0400
END:DAYLIGHT
END:VTIMEZONE
BEGIN:VTIMEZONE
TZID:UTC
BEGIN:STANDARD
DTSTART:20250725T033109Z
TZOFFSETFROM:+0000
TZOFFSETTO:+0000
END:STANDARD
END:VTIMEZONE
BEGIN:VEVENT
UID:346-21
DTSTAMP:20260421T033109Z
SUMMARY:The Great Give Back
LOCATION:Easton Library 1074 State route 40\, Greenwich\, NY  12834
ORGANIZER;CN=Jennifer DeCarlo:MAILTO:jdecarlo@sals.edu
DTSTART;TZID=America/New_York;VALUE=DATE:20251012
DTEND;TZID=America/New_York;VALUE=DATE:20251101
X-ALT-DESC;FMTTYPE=TEXT/HTML:Please donate to The Comfort Food Community Oc
 tober 12-31.  The library is accepting: Cleaning Products Diapers Toiletr
 ies Period Products A collection box is at the library entryway. Please ca
 ll the Easton Library at 518-692-2253 with questions.
CATEGORIES:Easton Library
URL;VALUE=URI:https://easton.sals.edu/mc-events/the-great-give-back/
METHOD:PUBLISH
END:VEVENT
END:VCALENDAR